BEGIN:VCALENDAR
VERSION:2.0
PRODID:-//hacksw/handcal//NONSGML v1.0//EN
BEGIN:VEVENT
SUMMARY:Tournoi Volley ball Neuville sports
UID:5f515619-592d-49e3-9daa-f754834d562f
DTSTART:20260614T063000Z
DTEND:20260614T170000Z
LOCATION:Localisation complexe sportif 19 rue du Ruau 45170 Neuville aux Bois
CATEGORIES:Sportif
STATUS:
DESCRIPTION:<p>❤️🏐 TOURNOI DE NEUVILLE</p>
 
 <p>Notre tournoi
 revient cette annee pour sa 3eme edition sous son nouveau
 format.</p>
 
 <p>Il aura lieu le :</p>
 
 <p><strong>DIMANCHE 14 JUIN
 2026</strong></p>
 
 <p>A partir de 8h30</p>
 
 <p> </p>
 
 <p><strong>La
 nouveaute de cette annee : les inscriptions et reglements se font
 directement en ligne du 8 avril au 13 juin 2026, 23h59
 😊</strong></p>
 
 <p>Comme chaque annee, notre tournoi est limite,
 donc ne perdez pas votre temps et inscrivez vous des a present
 😉</p>
 
 <p>Les inscriptions seront closes automatiquement des que
 le nombre de places sera atteint.</p>
 
 <p>Possibilite de s’inscrire
 sur place le jour J, sous reserve des places disponibles, majore de
 8€ par equipe.</p>
 
 <p> </p>
 
 <p>ℹ️<strong>
 INFORMATIONS</strong></p>
 
 <p>Notre tournoi est un tournoi 4x4 mixte,
 il convient donc d’avoir les 2 genres sur le terrain
 simultanement.</p>
 
 <p>Il est ouvert aux personnes a partir de 14 ans
 (nees en 2012), du loisir au professionnel.</p>
 
 <p>C’est un
 tournoi en salle qui se joue sur 2 gymnases. Les gymnases sont
 separes par un stade et sont accessibles l’un a l’autre a
 pieds.</p>
 
 <p> </p>
 
 <p>⏰
 <strong>HORAIRES</strong></p>
 
 <ul>
 	<li>8h30 : Accueil des equipes
 pour inscription (si place disponible) et confirmation de presence
 (OBLIGATOIRE) ⚠️</li>
 	<li>9h15 : Fin de confirmation et fin des
 inscriptions</li>
 	<li>9h30: Debut du
 tournoi</li>
 </ul>
 
 <p> </p>
 
 <p>📍
 <strong>LIEUX</strong></p>
 
 <ul>
 	<li>RDV des 8h30 au Complexe
 Sportif Serge Prieur (26 rue de Ruau - 45170
 NEUVILLE-AUX-BOIS)</li>
 	<li>Le tournoi se deroulera au Complexe
 Sportif Serge Prieur mais egalement au Gymnase Pierre Perche (impasse
 du gymnase - 45170 NEUVILLE-AUX-BOIS)
 🏟️</li>
 </ul>
 
 <p> </p>
 
 <p><strong>💰
 INSCRIPTION</strong></p>
 
 <ul>
 	<li>En ligne du 8 avril au 13 juin,
 23h59</li>
 	<li>36€ par equipe</li>
 	<li>le jour J, sur place,
 44€ (sous reserve de place disponible) - especes ou
 CB</li>
 </ul>
 
 <p>voici le lien a copier pour s'inscrire
 :</p>
 
 <p>https://www.helloasso.com/associations/neuville-sports-neuville-sports-volley-ball/evenements/tournoi-de-neuville-2026?utm_source=app_ha&utm_campaign=share_campaign_button&utm_medium=ios</p>
 
 <p> </p>
 
 <p><strong>🍺🍔
 🥤🌭 BUVETTE ET RESTAURATION</strong></p>
 
 <p>Buvette et
 restauration sur place, derriere le Complexe Sportif.</p>
 
 <p>💶
 <strong>REGLEMENT POUR BUVETTE ET
 RESTAURATION </strong></p>
 
 <ul>
 	<li>Especes</li>
 	<li>En
 CB</li>
 </ul>
 
 <p>On vous attends nombreux et
 nombreuses</p>
 
 <p> </p>
 
 <p>❤️🏐</p>
URL;VALUE=URI:https://www.neuville-sports.com/evenements/2026/06/14/tournoi-volley-ball-neuville-sports-2439286
END:VEVENT
END:VCALENDAR
