BEGIN:VCALENDAR
VERSION:2.0
PRODID:-//hacksw/handcal//NONSGML v1.0//EN
BEGIN:VEVENT
SUMMARY:Match Volley-Ball N3
UID:9f5114d6-e0d7-43fd-a30c-9cd2d82df13d
DTSTART:20260405T120000Z
DTEND:20260405T220000Z
LOCATION:Localisation   
CATEGORIES:Sportif
STATUS:
URL;VALUE=URI:https://www.neuville-sports.com/evenements/2026/04/05/match-volley-ball-n3-2438763
END:VEVENT
END:VCALENDAR
